BEGIN:VCALENDAR
VERSION:2.0
PRODID:www.die-gruenen-lippstadt.de
METHOD:PUBLISH
BEGIN:VTIMEZONE
TZID:Europe/Berlin
X-LIC-LOCATION:Europe/Berlin
BEGIN:DAYLIGHT
TZOFFSETFROM:+0100
TZOFFSETTO:+0200
TZNAME:CEST
DTSTART:19700329T020000
RRULE:FREQ=YEARLY;INTERVAL=1;BYDAY=-1SU;BYMONTH=3
END:DAYLIGHT
BEGIN:STANDARD
TZOFFSETFROM:+0200
TZOFFSETTO:+0100
TZNAME:CET
DTSTART:19701025T030000
RRULE:FREQ=YEARLY;INTERVAL=1;BYDAY=-1SU;BYMONTH=10
END:STANDARD
END:VTIMEZONE
BEGIN:VEVENT
UID:550aecfd005da55dd3047fc4359a8730@www.die-gruenen-lippstadt.de
URL;VALUE=URI:https://www.die-gruenen-lippstadt.de/termine/mitgliedervers
 ammlung-4/
LOCATION:Grünes Büro, Brüderstr. 12, 59555 Lippstadt
SUMMARY:Mitgliederversammlung
DESCRIPTION;ALTREP="data:text/html,":
CLASS:PUBLIC
DTSTART;TZID=Europe/Berlin:20260426T110000
DTEND;TZID=Europe/Berlin:20260426T140000
DTSTAMP:20260423T100133
END:VEVENT
END:VCALENDAR